BEGIN:VCALENDAR
VERSION:2.0
PRODID:-//ChamberMaster//Event Calendar 2.0//EN
METHOD:PUBLISH
X-PUBLISHED-TTL:P3D
REFRESH-INTERVAL:P3D
CALSCALE:GREGORIAN
BEGIN:VEVENT
DTSTART:20150318T223000Z
DTEND:20150319T003000Z
X-MICROSOFT-CDO-ALLDAYEVENT:FALSE
SUMMARY:Business After Hours - The Gourmet Goddess
DESCRIPTION:Business After Hours\n\n\n\nMix and mingle at a special after hours event!\n\n\n\nEnjoy a glass of wine\, sample the gourmet fare and explore the fine olive oils and balsamic  the private tasting vinegars  during the private tasting.  See what your special event could be like when you have The Gourmet Goddess at your service!\n\n\n\nBusiness after Hours is in conjunction with the Highland Chamber of Commerce
X-ALT-DESC;FMTTYPE=text/html:Business After Hours<br />\n<br />\nMix and mingle at a special after hours event!<br />\n<br />\nEnjoy a glass of wine\, sample the gourmet fare and explore the fine olive oils and balsamic&nbsp\; the private tasting vinegars &nbsp\;during the private tasting.&nbsp\; See what your special event could be like when you have The Gourmet Goddess at your service!<br />\n<br />\nBusiness after Hours is in conjunction with the Highland Chamber of Commerce
LOCATION:The Tasty Olive 2104 - 45th Street Highland\, IN 46322
UID:e.1835.2647
SEQUENCE:3
DTSTAMP:20260419T151822Z
URL:https://members.munsterchamber.org/events/details/business-after-hours-the-gourmet-goddess-03-18-2015-2647
END:VEVENT

END:VCALENDAR
