BEGIN:VCALENDAR
VERSION:2.0
PRODID:-//ChamberMaster//Event Calendar 2.0//EN
METHOD:PUBLISH
X-PUBLISHED-TTL:P3D
REFRESH-INTERVAL:P3D
CALSCALE:GREGORIAN
BEGIN:VEVENT
DTSTART:20160519T220000Z
DTEND:20160520T000000Z
X-MICROSOFT-CDO-ALLDAYEVENT:FALSE
SUMMARY:Business After Hours - Pain and Vein Clinic
DESCRIPTION:Ribbon Cutting and Business After Hours
X-ALT-DESC;FMTTYPE=text/html:Ribbon Cutting and Business After Hours<br />\n&nbsp\;
LOCATION:Center for Pain Control and Vein Care 1928 45th Street Munster\, IN 46321
UID:e.1835.3248
SEQUENCE:3
DTSTAMP:20260421T130357Z
URL:https://members.munsterchamber.org/events/details/business-after-hours-pain-and-vein-clinic-05-19-2016-3248
END:VEVENT

END:VCALENDAR
