BEGIN:VCALENDAR
VERSION:2.0
PRODID:-//ChamberMaster//Event Calendar 2.0//EN
METHOD:PUBLISH
X-PUBLISHED-TTL:P3D
REFRESH-INTERVAL:P3D
CALSCALE:GREGORIAN
BEGIN:VEVENT
DTSTART:20140911T210000Z
DTEND:20140912T000000Z
X-MICROSOFT-CDO-ALLDAYEVENT:FALSE
SUMMARY:Business After Hours It's Just Serendipity
DESCRIPTION:5th Birthday Anniversary
X-ALT-DESC;FMTTYPE=text/html:5th Birthday Anniversary
LOCATION:
UID:e.1835.1545
SEQUENCE:3
DTSTAMP:20260420T012440Z
URL:https://members.munsterchamber.org/events/details/business-after-hours-it-s-just-serendipity-09-11-2014-1545
END:VEVENT

END:VCALENDAR
