BEGIN:VCALENDAR
VERSION:2.0
PRODID:-//ChamberMaster//Event Calendar 2.0//EN
METHOD:PUBLISH
X-PUBLISHED-TTL:P3D
REFRESH-INTERVAL:P3D
CALSCALE:GREGORIAN
BEGIN:VEVENT
DTSTART:20150910T210000Z
DTEND:20150911T000000Z
X-MICROSOFT-CDO-ALLDAYEVENT:FALSE
SUMMARY:Business After Hours It's Just Serendipity
DESCRIPTION:6th Birthday Celebration
X-ALT-DESC;FMTTYPE=text/html:6th Birthday Celebration
LOCATION:It's Just Serendipity 5630 Hohman Avenue Hammond\, IN 46320 (219) 932-6328(NEAT) (work) Fax: (219) 932-6195
UID:e.1835.3017
SEQUENCE:3
DTSTAMP:20260421T230303Z
URL:https://members.munsterchamber.org/events/details/business-after-hours-it-s-just-serendipity-09-10-2015-3017
END:VEVENT

END:VCALENDAR
