BEGIN:VCALENDAR
VERSION:2.0
PRODID:-//ChamberMaster//Event Calendar 2.0//EN
METHOD:PUBLISH
X-PUBLISHED-TTL:P3D
REFRESH-INTERVAL:P3D
CALSCALE:GREGORIAN
BEGIN:VEVENT
DTSTART:20160512T220000Z
DTEND:20160513T000000Z
X-MICROSOFT-CDO-ALLDAYEVENT:FALSE
SUMMARY:Business After Hours - Home Based Business
DESCRIPTION:POP UP Business After Hours\n\nfeaturing Home Based Business\n\n\n\nUsborne Books & More\,\n\nYoung Living Essential Oils\n\nThe Gourmet Goddess\n\nShaklee Wellness Products\n\nNorthwestern Medical Imaging
X-ALT-DESC;FMTTYPE=text/html:POP UP Business After Hours<br>\nfeaturing Home Based Business<br>\n<br>\nUsborne Books &amp\; More\,<br>\nYoung Living Essential Oils<br>\nThe Gourmet Goddess<br>\nShaklee Wellness Products<br>\nNorthwestern Medical Imaging
LOCATION:Pop Up Location 1950 - 45th Avenue Munster\, IN 46321
UID:e.1835.3246
SEQUENCE:3
DTSTAMP:20260421T130033Z
URL:https://members.munsterchamber.org/events/details/business-after-hours-home-based-business-05-12-2016-3246
END:VEVENT

END:VCALENDAR
