BEGIN:VCALENDAR
VERSION:2.0
PRODID:-//ChamberMaster//Event Calendar 2.0//EN
METHOD:PUBLISH
X-PUBLISHED-TTL:P3D
REFRESH-INTERVAL:P3D
CALSCALE:GREGORIAN
BEGIN:VEVENT
DTSTART:20141002T210000Z
DTEND:20141003T000000Z
X-MICROSOFT-CDO-ALLDAYEVENT:FALSE
SUMMARY:Business After Hours - Heart to Heart
DESCRIPTION:Business After Hours\n\nHeart to Heart Gallery\n\n\n\n\n\nClick link below for detailed information.\n\nhttp://cloud.chambermaster.com/userfiles/UserFiles/chambers/1835/File/HeartBAH.jpg
X-ALT-DESC;FMTTYPE=text/html:Business After Hours<br />\nHeart to Heart Gallery<br />\n<br />\n<br />\nClick link below for detailed information.<br />\n<a href="http://cloud.chambermaster.com/userfiles/UserFiles/chambers/1835/File/HeartBAH.jpg" target="_top">http://cloud.chambermaster.com/userfiles/UserFiles/chambers/1835/File/HeartBAH.jpg</a><br />\n&nbsp\;
LOCATION:Heart to Heart Gallery 921 Ridge Road Munster\, IN 46321
UID:e.1835.1546
SEQUENCE:3
DTSTAMP:20260419T233600Z
URL:https://members.munsterchamber.org/events/details/business-after-hours-heart-to-heart-10-02-2014-1546
END:VEVENT

END:VCALENDAR
