BEGIN:VCALENDAR
VERSION:2.0
PRODID:-//ChamberMaster//Event Calendar 2.0//EN
METHOD:PUBLISH
X-PUBLISHED-TTL:P3D
REFRESH-INTERVAL:P3D
CALSCALE:GREGORIAN
BEGIN:VEVENT
DTSTART:20160623T213000Z
DTEND:20160624T000000Z
X-MICROSOFT-CDO-ALLDAYEVENT:FALSE
SUMMARY:Business After Hours - Hartsfield Village
DESCRIPTION:You are cordially invited\n\nto the Hartsfield Village Open House!\n\nJoin them as they celebrate their newly renovated\n\nREHABILITATION CENTER\n\n\n\nFeaturing live music\, hors d'oeuvres & cocktails\n\nComplimentary Valet Park available\n\n\n\nRSVP 219 - 934 - 0590
X-ALT-DESC;FMTTYPE=text/html:You are cordially invited<br />\nto the Hartsfield Village Open House!<br />\nJoin them as they celebrate their newly renovated<br />\nREHABILITATION CENTER<br />\n<br />\nFeaturing live music\, hors d&#39\;oeuvres &amp\; cocktails<br />\nComplimentary Valet Park available<br />\n<br />\nRSVP 219 - 934 - 0590
LOCATION:Hartsfield Village Rehabilitation Center 503 Otis Bowen Drive Munster\, IN
UID:e.1835.3322
SEQUENCE:3
DTSTAMP:20260421T120610Z
URL:https://members.munsterchamber.org/events/details/business-after-hours-hartsfield-village-06-23-2016-3322
END:VEVENT

END:VCALENDAR
