BEGIN:VCALENDAR
VERSION:2.0
PRODID:-//ChamberMaster//Event Calendar 2.0//EN
METHOD:PUBLISH
X-PUBLISHED-TTL:P3D
REFRESH-INTERVAL:P3D
CALSCALE:GREGORIAN
BEGIN:VEVENT
DTSTART:20140821T220000Z
DTEND:20140822T000000Z
X-MICROSOFT-CDO-ALLDAYEVENT:FALSE
SUMMARY:Business After Hours - H&R Block
DESCRIPTION:Business After Hours\n\nH& R Block\n\nEducation and employment opportunities
X-ALT-DESC;FMTTYPE=text/html:Business After Hours<br />\nH&amp\; R Block<br />\nEducation and employment opportunities&nbsp\;&nbsp\;&nbsp\;&nbsp\;&nbsp\;&nbsp\;&nbsp\;&nbsp\;&nbsp\;&nbsp\;&nbsp\;
LOCATION:
UID:e.1835.524
SEQUENCE:3
DTSTAMP:20260420T030524Z
URL:https://members.munsterchamber.org/events/details/business-after-hours-h-r-block-08-21-2014-524
END:VEVENT

END:VCALENDAR
