BEGIN:VCALENDAR
VERSION:2.0
PRODID:-//ChamberMaster//Event Calendar 2.0//EN
METHOD:PUBLISH
X-PUBLISHED-TTL:P3D
REFRESH-INTERVAL:P3D
CALSCALE:GREGORIAN
BEGIN:VEVENT
DTSTART:20160316T140000Z
DTEND:20160316T150000Z
X-MICROSOFT-CDO-ALLDAYEVENT:FALSE
SUMMARY:Business After Hours Committee Meeting
DESCRIPTION:Discuss hosting a Home Business Business After Hours
X-ALT-DESC;FMTTYPE=text/html:Discuss hosting a Home Business Business After Hours
LOCATION:Munster Chamber Office Town Hall
UID:e.1835.3245
SEQUENCE:3
DTSTAMP:20260421T154458Z
URL:https://members.munsterchamber.org/events/details/business-after-hours-committee-meeting-03-16-2016-3245
END:VEVENT

END:VCALENDAR
