BEGIN:VCALENDAR
VERSION:2.0
PRODID:-//ChamberMaster//Event Calendar 2.0//EN
METHOD:PUBLISH
X-PUBLISHED-TTL:P3D
REFRESH-INTERVAL:P3D
CALSCALE:GREGORIAN
BEGIN:VEVENT
DTSTART:20141030T210000Z
DTEND:20141031T000000Z
X-MICROSOFT-CDO-ALLDAYEVENT:FALSE
SUMMARY:Business After Hours
DESCRIPTION:Join Tanaz Bamboat for a fun\, laughter yoga session at 5:30 pm.\n\n\n\nEveryone Welcome - all ages\, all capabilities.\n\nNo jokes\, no mats\, only pure joy!\n\nSnacks and lots of fun\n\nDoor Prizes
X-ALT-DESC;FMTTYPE=text/html:Join Tanaz Bamboat for a fun\, laughter yoga session at 5:30 pm.<br />\n<br />\nEveryone Welcome - all ages\, all capabilities.<br />\nNo jokes\, no mats\, only pure joy!<br />\nSnacks and lots of fun<br />\nDoor Prizes
LOCATION:Health Diagnostics of NWI 9003-A Indianapolis Blvd Highland\, IN 46322
UID:e.1835.1549
SEQUENCE:3
DTSTAMP:20260419T234645Z
URL:https://members.munsterchamber.org/events/details/business-after-hours-10-30-2014-1549
END:VEVENT

END:VCALENDAR
