BEGIN:VCALENDAR
VERSION:2.0
PRODID:-//ChamberMaster//Event Calendar 2.0//EN
METHOD:PUBLISH
X-PUBLISHED-TTL:P3D
REFRESH-INTERVAL:P3D
CALSCALE:GREGORIAN
BEGIN:VEVENT
DTSTART:20150409T230000Z
DTEND:20150410T010000Z
X-MICROSOFT-CDO-ALLDAYEVENT:FALSE
SUMMARY:Business After Hours
DESCRIPTION:Business After Hours\n\nAllstate\, Gutierrrez Family  Agency\n\nWonder Years Learning Center\n\nShred Fitness and Nutrition
X-ALT-DESC;FMTTYPE=text/html:Business After Hours<br />\nAllstate\, Gutierrrez Family&nbsp\; Agency<br />\nWonder Years Learning Center<br />\nShred Fitness and Nutrition
LOCATION:The Pavilion on 45th 1838\, 1842 & 1846 - 45th Avenue Munster\, IN 46321
UID:e.1835.2649
SEQUENCE:3
DTSTAMP:20260419T133941Z
URL:https://members.munsterchamber.org/events/details/business-after-hours-04-09-2015-2649
END:VEVENT

END:VCALENDAR
