BEGIN:VCALENDAR
VERSION:2.0
PRODID:-//ChamberMaster//Event Calendar 2.0//EN
METHOD:PUBLISH
X-PUBLISHED-TTL:P3D
REFRESH-INTERVAL:P3D
CALSCALE:GREGORIAN
BEGIN:VEVENT
DTSTART:20150324T153000Z
DTEND:20150325T043000Z
X-MICROSOFT-CDO-ALLDAYEVENT:FALSE
SUMMARY:Budget Meeting
DESCRIPTION:Review Munster Chamber of Commerce Budget for 2015\n\nLook to 2016 and 2017
X-ALT-DESC;FMTTYPE=text/html:Review Munster Chamber of Commerce Budget for 2015<br />\nLook to 2016 and 2017
LOCATION:Munster Chamber of Commerce Office Center for Visual and Performing Arts Lower Level 1040 Ridge Road Munster\, IN 46321
UID:e.1835.2655
SEQUENCE:3
DTSTAMP:20260419T151945Z
URL:https://members.munsterchamber.org/events/details/budget-meeting-03-24-2015-2655
END:VEVENT

END:VCALENDAR
