BEGIN:VCALENDAR
VERSION:2.0
PRODID:-//ChamberMaster//Event Calendar 2.0//EN
METHOD:PUBLISH
X-PUBLISHED-TTL:P3D
REFRESH-INTERVAL:P3D
CALSCALE:GREGORIAN
BEGIN:VEVENT
DTSTART:20160209T143000Z
DTEND:20160209T153000Z
X-MICROSOFT-CDO-ALLDAYEVENT:FALSE
SUMMARY:Breakfast with Santa - follow up meeting
DESCRIPTION:Follow up meeting to 12/5/15 event\n\nPlan for 12/3/16 Breakfast with Santa
X-ALT-DESC;FMTTYPE=text/html:Follow up meeting to 12/5/15 event<br />\nPlan for 12/3/16 Breakfast with Santa
LOCATION:Munster Chamber Office - Town Hall 1005 Ridge Road
UID:e.1835.3222
SEQUENCE:3
DTSTAMP:20260421T164756Z
URL:https://members.munsterchamber.org/events/details/breakfast-with-santa-follow-up-meeting-02-09-2016-3222
END:VEVENT

END:VCALENDAR
