BEGIN:VCALENDAR
VERSION:2.0
PRODID:-//ChamberMaster//Event Calendar 2.0//EN
METHOD:PUBLISH
X-PUBLISHED-TTL:P3D
REFRESH-INTERVAL:P3D
CALSCALE:GREGORIAN
BEGIN:VEVENT
DTSTART:20141206T150000Z
DTEND:20141206T180000Z
X-MICROSOFT-CDO-ALLDAYEVENT:FALSE
SUMMARY:Breakfast with Santa 2014
DESCRIPTION:32nd Annual Breakfast with\n\nSANTA AND MRS. CLAUS!
X-ALT-DESC;FMTTYPE=text/html:<span style="font-size: 22px\;">32nd Annual Breakfast with<br />\nSANTA AND MRS. CLAUS!&nbsp\;&nbsp\;&nbsp\;&nbsp\;</span>
LOCATION:Wilbur Wright Middle School Cafeteria 8650 Columbia Avenue Munster\, IN
UID:e.1835.480
SEQUENCE:3
DTSTAMP:20260419T194908Z
URL:https://members.munsterchamber.org/events/details/breakfast-with-santa-2014-12-06-2014-480
END:VEVENT

END:VCALENDAR
