BEGIN:VCALENDAR
VERSION:2.0
PRODID:-//ChamberMaster//Event Calendar 2.0//EN
METHOD:PUBLISH
X-PUBLISHED-TTL:P3D
REFRESH-INTERVAL:P3D
CALSCALE:GREGORIAN
BEGIN:VEVENT
DTSTART:20130903T130000Z
DTEND:20130903T150000Z
X-MICROSOFT-CDO-ALLDAYEVENT:FALSE
SUMMARY:Board Meeting-September 2013
DESCRIPTION:Board Meeting
X-ALT-DESC;FMTTYPE=text/html:Board Meeting
LOCATION:Strack and VanTil Headquarters 2244 - 45th Avenue Highland\, IN
UID:e.1835.272
SEQUENCE:3
DTSTAMP:20260420T182000Z
URL:https://members.munsterchamber.org/events/details/board-meeting-september-2013-09-03-2013-272
END:VEVENT

END:VCALENDAR
