BEGIN:VCALENDAR
VERSION:2.0
PRODID:-//ChamberMaster//Event Calendar 2.0//EN
METHOD:PUBLISH
X-PUBLISHED-TTL:P3D
REFRESH-INTERVAL:P3D
CALSCALE:GREGORIAN
BEGIN:VEVENT
DTSTART:20160301T140000Z
DTEND:20160301T160000Z
X-MICROSOFT-CDO-ALLDAYEVENT:FALSE
SUMMARY:Board Meeting 3/1/2016
DESCRIPTION:Board Meeting \n\nBring Red Folders for updating\n\nWendy is having trouble with her email\, nothing coming in or going out on wendy@chambermunster.org.  Please use the personal email - randalmis@aol.com until the issue is resolved.\n\n\n\nClick Here to review Board Agenda and supporting documents\n\n\n\nClick to review the 2016 - Five Year Plan\n\n\n\nClick here to get updates for your Board Member Folder
X-ALT-DESC;FMTTYPE=text/html:Board Meeting&nbsp\;<br />\nBring Red Folders for updating<br />\nWendy is having trouble with her email\, nothing coming in or going out on wendy@chambermunster.org.&nbsp\; Please use the personal email - randalmis@aol.com until the issue is resolved.<br />\n<br />\n<a href="https://chambermaster.blob.core.windows.net/userfiles/UserFiles/chambers/1835/File/Board03.01.16.docx">Click Here to review Board Agenda and supporting documents</a><br />\n<br />\n<a href="https://chambermaster.blob.core.windows.net/userfiles/UserFiles/chambers/1835/File/FiveyearPlan2016update03.01.2016.docx">Click to review the 2016 - Five Year Plan</a><br />\n<br />\n<a href="https://chambermaster.blob.core.windows.net/userfiles/UserFiles/chambers/1835/File/SKMBT_C28016022911500.pdf">Click here to get updates for your Board Member Folder</a><br />\n<br />\n<br />\n<br />\n&nbsp\;
LOCATION:Town Hall - Main Meeting Room 1005 Ridge Road Munster\, IN
UID:e.1835.3084
SEQUENCE:3
DTSTAMP:20260421T152618Z
URL:https://members.munsterchamber.org/events/details/board-meeting-3-1-2016-03-01-2016-3084
END:VEVENT

END:VCALENDAR
