BEGIN:VCALENDAR
VERSION:2.0
PRODID:-//ChamberMaster//Event Calendar 2.0//EN
METHOD:PUBLISH
X-PUBLISHED-TTL:P3D
REFRESH-INTERVAL:P3D
CALSCALE:GREGORIAN
BEGIN:VEVENT
DTSTART:20131105T140000Z
DTEND:20131105T150000Z
X-MICROSOFT-CDO-ALLDAYEVENT:FALSE
SUMMARY:Board Meeting
DESCRIPTION:Board Meeting
X-ALT-DESC;FMTTYPE=text/html:Board Meeting&nbsp\;&nbsp\;&nbsp\;&nbsp\;
LOCATION:Center for Visual and Performing Arts
UID:e.1835.276
SEQUENCE:3
DTSTAMP:20260420T154520Z
URL:https://members.munsterchamber.org/events/details/board-meeting-11-05-2013-276
END:VEVENT

END:VCALENDAR
