BEGIN:VCALENDAR
VERSION:2.0
PRODID:-//ChamberMaster//Event Calendar 2.0//EN
METHOD:PUBLISH
X-PUBLISHED-TTL:P3D
REFRESH-INTERVAL:P3D
CALSCALE:GREGORIAN
BEGIN:VEVENT
DTSTART:20141104T140000Z
DTEND:20141104T160000Z
X-MICROSOFT-CDO-ALLDAYEVENT:FALSE
SUMMARY:Board Meeting
DESCRIPTION:Program of Work\n\nBoard Meeting
X-ALT-DESC;FMTTYPE=text/html:Program of Work<br />\nBoard Meeting
LOCATION:Center for Visual and Performing Arts Board Room
UID:e.1835.425
SEQUENCE:3
DTSTAMP:20260419T214342Z
URL:https://members.munsterchamber.org/events/details/board-meeting-11-04-2014-425
END:VEVENT

END:VCALENDAR
