BEGIN:VCALENDAR
VERSION:2.0
PRODID:-//ChamberMaster//Event Calendar 2.0//EN
METHOD:PUBLISH
X-PUBLISHED-TTL:P3D
REFRESH-INTERVAL:P3D
CALSCALE:GREGORIAN
BEGIN:VEVENT
DTSTART:20151103T140000Z
DTEND:20151103T160000Z
X-MICROSOFT-CDO-ALLDAYEVENT:FALSE
SUMMARY:Board Meeting
DESCRIPTION:CLICK HERE TO REVIEW TENTATIVE AGENDA\n\nan updated agenda will be provided on Tuesday am\n\n\n\nBoard Meeting\n\n\n\nBRING YOUR CALENDARS AND RED FOLDERS\n\nWe will be scheduling committee meetings for the following:\n\nGolf\n\nScholarship\n\nBreakfast with Santa\n\nBudget\n\n5 Year review and update\n\n\n\nAdditional meetings to be scheduled as needed.\n\n\n\nGIFT CERTIFICATES WILL BE FOR SALE
X-ALT-DESC;FMTTYPE=text/html:<a href="http://cloud.chambermaster.com/userfiles/UserFiles/chambers/1835/File/Board11.3.15.docx">CLICK HERE TO REVIEW TENTATIVE AGENDA</a><br />\nan updated agenda will be provided on Tuesday am<br />\n<br />\nBoard Meeting<br />\n<br />\nBRING YOUR CALENDARS AND RED FOLDERS<br />\nWe will be scheduling committee meetings for the following:<br />\nGolf<br />\nScholarship<br />\nBreakfast with Santa<br />\nBudget<br />\n5 Year review and update<br />\n<br />\nAdditional meetings to be scheduled as needed.<br />\n<br />\nGIFT CERTIFICATES WILL BE FOR SALE
LOCATION:Meeting Room Center for Visual and Performing Arts
UID:e.1835.2892
SEQUENCE:3
DTSTAMP:20260421T203553Z
URL:https://members.munsterchamber.org/events/details/board-meeting-11-03-2015-2892
END:VEVENT

END:VCALENDAR
