BEGIN:VCALENDAR
VERSION:2.0
PRODID:-//ChamberMaster//Event Calendar 2.0//EN
METHOD:PUBLISH
X-PUBLISHED-TTL:P3D
REFRESH-INTERVAL:P3D
CALSCALE:GREGORIAN
BEGIN:VEVENT
DTSTART:20150901T130000Z
DTEND:20150901T150000Z
X-MICROSOFT-CDO-ALLDAYEVENT:FALSE
SUMMARY:Board Meeting
DESCRIPTION:Board Meeting\n\nProgram of Work
X-ALT-DESC;FMTTYPE=text/html:Board Meeting<br />\nProgram of Work
LOCATION:Center for Visual and Performing Arts Meeting Room Upper level behind the Box Office
UID:e.1835.2890
SEQUENCE:3
DTSTAMP:20260421T230002Z
URL:https://members.munsterchamber.org/events/details/board-meeting-09-01-2015-2890
END:VEVENT

END:VCALENDAR
