BEGIN:VCALENDAR
VERSION:2.0
PRODID:-//ChamberMaster//Event Calendar 2.0//EN
METHOD:PUBLISH
X-PUBLISHED-TTL:P3D
REFRESH-INTERVAL:P3D
CALSCALE:GREGORIAN
BEGIN:VEVENT
DTSTART:20140603T130000Z
DTEND:20140603T150000Z
X-MICROSOFT-CDO-ALLDAYEVENT:FALSE
SUMMARY:Board Meeting
DESCRIPTION:Munster Chamber of Commerce Board Meeting
X-ALT-DESC;FMTTYPE=text/html:Munster Chamber of Commerce Board Meeting
LOCATION:Center for Visual and Performing Arts Board Room
UID:e.1835.420
SEQUENCE:3
DTSTAMP:20260420T063036Z
URL:https://members.munsterchamber.org/events/details/board-meeting-06-03-2014-420
END:VEVENT

END:VCALENDAR
