BEGIN:VCALENDAR
VERSION:2.0
PRODID:-//ChamberMaster//Event Calendar 2.0//EN
METHOD:PUBLISH
X-PUBLISHED-TTL:P3D
REFRESH-INTERVAL:P3D
CALSCALE:GREGORIAN
BEGIN:VEVENT
DTSTART:20150303T140000Z
DTEND:20150303T160000Z
X-MICROSOFT-CDO-ALLDAYEVENT:FALSE
SUMMARY:Board Meeting
DESCRIPTION:Board Meeting   \n\nFirst Quarter Meeting of the Munster Chamber of Commerce Board of Directors\n\n\n\nAgenda:
X-ALT-DESC;FMTTYPE=text/html:Board Meeting&nbsp\;&nbsp\;&nbsp\;<br />\nFirst Quarter Meeting of the Munster Chamber of Commerce Board of Directors<br />\n<br />\nAgenda:<br />\n&nbsp\;
LOCATION:Center for Visual and Performing Arts Meeting Room - Upper level of Center for Visual and Performing Arts Behind the Box Office
UID:e.1835.2603
SEQUENCE:3
DTSTAMP:20260419T153102Z
URL:https://members.munsterchamber.org/events/details/board-meeting-03-03-2015-2603
END:VEVENT

END:VCALENDAR
