BEGIN:VCALENDAR
VERSION:2.0
PRODID:-//ChamberMaster//Event Calendar 2.0//EN
METHOD:PUBLISH
X-PUBLISHED-TTL:P3D
REFRESH-INTERVAL:P3D
CALSCALE:GREGORIAN
BEGIN:VEVENT
DTSTART:20140517T140000Z
DTEND:20140517T170000Z
X-MICROSOFT-CDO-ALLDAYEVENT:FALSE
SUMMARY:BMO Harris Bank Free Document Shredding
DESCRIPTION:BMO Harris Bank Free Document Shredding    \n\nKeep your personal information secure by bringing up to 4 boxes of discarded documents to their mobile shredding service.  It's a great way to cut down on clutter and boost your peace of mind.
X-ALT-DESC;FMTTYPE=text/html:BMO Harris Bank Free Document Shredding&nbsp\;&nbsp\;&nbsp\;&nbsp\;<br />\nKeep your personal information secure by bringing up to 4 boxes of discarded documents to their mobile shredding service.&nbsp\; It&#39\;s a great way to cut down on clutter and boost your peace of mind.
LOCATION:915 Ridge Road Munster\, IN
UID:e.1835.485
SEQUENCE:3
DTSTAMP:20260420T075311Z
URL:https://members.munsterchamber.org/events/details/bmo-harris-bank-free-document-shredding-05-17-2014-485
END:VEVENT

END:VCALENDAR
