BEGIN:VCALENDAR
VERSION:2.0
PRODID:-//ChamberMaster//Event Calendar 2.0//EN
METHOD:PUBLISH
X-PUBLISHED-TTL:P3D
REFRESH-INTERVAL:P3D
CALSCALE:GREGORIAN
BEGIN:VEVENT
DTSTART:20160212T180000Z
DTEND:20160212T180000Z
X-MICROSOFT-CDO-ALLDAYEVENT:FALSE
SUMMARY:Big Bang Boom!
DESCRIPTION:Get your heart pounding and your passions swirling as you kick off Valentine?s weekend with this bombastic and beautiful concert.
X-ALT-DESC;FMTTYPE=text/html:Get your heart pounding and your passions swirling as you kick off Valentine?s weekend with this bombastic and beautiful concert.
LOCATION:The Auditorium at Bethel Church
UID:e.1835.2883
SEQUENCE:3
DTSTAMP:20260421T164321Z
URL:https://members.munsterchamber.org/events/details/big-bang-boom-02-12-2016-2883
END:VEVENT

END:VCALENDAR
