BEGIN:VCALENDAR
VERSION:2.0
PRODID:-//ChamberMaster//Event Calendar 2.0//EN
METHOD:PUBLISH
X-PUBLISHED-TTL:P3D
REFRESH-INTERVAL:P3D
CALSCALE:GREGORIAN
BEGIN:VEVENT
DTSTART:20150422T164500Z
DTEND:20150422T180000Z
X-MICROSOFT-CDO-ALLDAYEVENT:FALSE
SUMMARY:Appreciation Luncheon
DESCRIPTION:Previously named:  Administrative Professional  and Support Staff Luncheon\n\nThis is the luncheon bring your staff to show them how much they are appreciated! \n\n \n\nPleasant lunch\, Entertainment\, Goody Bags and lots of door prizes.\n\n \n\nWednesday\, April 22\, 2015\n\n \n\nCenter for Visual and Performing Arts\n\n \n\n11:45 - 1:00 pm\n\n \n\nLuncheon\, Theatre at the Center will perform selections from their recent  Ring of Fire production as it is on its way to the Mercury Theater in Chicago
X-ALT-DESC;FMTTYPE=text/html:<div>Previously named:&nbsp\; Administrative Professional&nbsp\; and Support Staff Luncheon<br />\nThis is the luncheon bring your staff to show them how much they are appreciated!&nbsp\;</div>\n\n<div>&nbsp\;</div>\n\n<div>Pleasant lunch\, Entertainment\, Goody Bags and lots of door prizes.</div>\n\n<div>&nbsp\;</div>\n\n<div>Wednesday\, April 22\, 2015</div>\n\n<div>&nbsp\;</div>\n\n<div>Center for Visual and Performing Arts</div>\n\n<div>&nbsp\;</div>\n\n<div>11:45 - 1:00 pm</div>\n\n<div>&nbsp\;</div>\n\n<div>Luncheon\, Theatre at the Center will perform selections from their recent &nbsp\;Ring of Fire production as it is on its way to the Mercury Theater in Chicago</div>\n
LOCATION:Center for Visual and Performing Arts 1040 Ridge Road Munster\, IN 46321
UID:e.1835.446
SEQUENCE:3
DTSTAMP:20260419T133751Z
URL:https://members.munsterchamber.org/events/details/appreciation-luncheon-04-22-2015-446
END:VEVENT

END:VCALENDAR
