BEGIN:VCALENDAR
VERSION:2.0
PRODID:-//ChamberMaster//Event Calendar 2.0//EN
METHOD:PUBLISH
X-PUBLISHED-TTL:P3D
REFRESH-INTERVAL:P3D
CALSCALE:GREGORIAN
BEGIN:VEVENT
DTSTART:20151013T180000Z
DTEND:20151013T190000Z
X-MICROSOFT-CDO-ALLDAYEVENT:FALSE
SUMMARY:Annual Dinner Committee Meeting
DESCRIPTION:Time is ticking.....\n\nWe need to get together to discuss the Annual Dinner.\n\n\n\nEvaluate where we are and what needs to be done.\n\n\n\nWe hope you are able to fit this meeting into your schedule.
X-ALT-DESC;FMTTYPE=text/html:Time is ticking.....<br />\nWe need to get together to discuss the Annual Dinner.<br />\n<br />\nEvaluate where we are and what needs to be done.<br />\n<br />\nWe hope you are able to fit this meeting into your schedule.
LOCATION:Munster Chamber Office
UID:e.1835.3034
SEQUENCE:3
DTSTAMP:20260421T214840Z
URL:https://members.munsterchamber.org/events/details/annual-dinner-committee-meeting-10-13-2015-3034
END:VEVENT

END:VCALENDAR
