BEGIN:VCALENDAR
VERSION:2.0
PRODID:-//ChamberMaster//Event Calendar 2.0//EN
METHOD:PUBLISH
X-PUBLISHED-TTL:P3D
REFRESH-INTERVAL:P3D
CALSCALE:GREGORIAN
BEGIN:VEVENT
DTSTART:20140916T140000Z
DTEND:20140916T150000Z
X-MICROSOFT-CDO-ALLDAYEVENT:FALSE
SUMMARY:Annual Dinner Committee Meeting
DESCRIPTION:Annual Dinner Committee Meeting\n\nDinner\, January 31\, 2015\n\nShine On You Crazy Diamond
X-ALT-DESC;FMTTYPE=text/html:Annual Dinner Committee Meeting<br />\nDinner\, January 31\, 2015<br />\nShine On You Crazy Diamond&nbsp\;&nbsp\;&nbsp\;&nbsp\;&nbsp\;&nbsp\;&nbsp\;
LOCATION:Munster Chamber Office 1040 Ridge Road\, Munster\, IN
UID:e.1835.1525
SEQUENCE:3
DTSTAMP:20260420T012336Z
URL:https://members.munsterchamber.org/events/details/annual-dinner-committee-meeting-09-16-2014-1525
END:VEVENT

END:VCALENDAR
