BEGIN:VCALENDAR
VERSION:2.0
PRODID:-//ChamberMaster//Event Calendar 2.0//EN
METHOD:PUBLISH
X-PUBLISHED-TTL:P3D
REFRESH-INTERVAL:P3D
CALSCALE:GREGORIAN
BEGIN:VEVENT
DTSTART:20150617T181500Z
DTEND:20150617T190000Z
X-MICROSOFT-CDO-ALLDAYEVENT:FALSE
SUMMARY:Annual Dinner Committee Meeting
DESCRIPTION:Wednesday\, June 17\n\nChamber office\n\nCenter for Visual and Performing Arts
X-ALT-DESC;FMTTYPE=text/html:Wednesday\, June 17<br />\nChamber office<br />\nCenter for Visual and Performing Arts
LOCATION:The meeting is tomorrow - Wednesday\, June 17th at 1:15! Agenda is to pick a theme\, sponsors and determine strategies for a successful event.
UID:e.1835.2878
SEQUENCE:3
DTSTAMP:20260422T024045Z
URL:https://members.munsterchamber.org/events/details/annual-dinner-committee-meeting-06-17-2015-2878
END:VEVENT

END:VCALENDAR
