BEGIN:VCALENDAR
VERSION:2.0
PRODID:-//ChamberMaster//Event Calendar 2.0//EN
METHOD:PUBLISH
X-PUBLISHED-TTL:P3D
REFRESH-INTERVAL:P3D
CALSCALE:GREGORIAN
BEGIN:VEVENT
DTSTART:20140520T130000Z
DTEND:20140520T140000Z
X-MICROSOFT-CDO-ALLDAYEVENT:FALSE
SUMMARY:Annual Dinner Committee Meeting
DESCRIPTION:Munster Chamber 60th Annual Dinner Committee will meet to begin to planning this annual gala scheduled for January 31st\, 2015\n\n\n\nThe agenda is to select a theme\, investigate ways to increase attendance and event revenue.
X-ALT-DESC;FMTTYPE=text/html:<div style="color: gray\;">Munster Chamber 60th Annual Dinner Committee will meet to&nbsp\;begin to planning this annual gala scheduled for January 31st\, 2015<br />\n<br />\nThe agenda is to select a theme\, investigate ways to increase attendance and event revenue.&nbsp\;<br />\n<br />\n&nbsp\;</div>\n
LOCATION:Committee Meeting will be held in the Munster Chamber Office
UID:e.1835.477
SEQUENCE:3
DTSTAMP:20260420T075545Z
URL:https://members.munsterchamber.org/events/details/annual-dinner-committee-meeting-05-20-2014-477
END:VEVENT

END:VCALENDAR
