BEGIN:VCALENDAR
VERSION:2.0
PRODID:-//ChamberMaster//Event Calendar 2.0//EN
METHOD:PUBLISH
X-PUBLISHED-TTL:P3D
REFRESH-INTERVAL:P3D
CALSCALE:GREGORIAN
BEGIN:VEVENT
DTSTART:20150122T190000Z
DTEND:20150122T200000Z
X-MICROSOFT-CDO-ALLDAYEVENT:FALSE
SUMMARY:Annual Dinner Committee Meeting
DESCRIPTION:Committee meeting to update committee on evenings events.\n\nSign up  to volunteer night of event
X-ALT-DESC;FMTTYPE=text/html:Committee meeting to update committee on evenings events.<br />\nSign up &nbsp\;to volunteer night of event<br />\n<br />\n&nbsp\;
LOCATION:Munster Chamber Office 1040 Ridge Road Munster\, IN
UID:e.1835.2641
SEQUENCE:3
DTSTAMP:20260419T181613Z
URL:https://members.munsterchamber.org/events/details/annual-dinner-committee-meeting-01-22-2015-2641
END:VEVENT

END:VCALENDAR
