BEGIN:VCALENDAR
VERSION:2.0
PRODID:-//ChamberMaster//Event Calendar 2.0//EN
METHOD:PUBLISH
X-PUBLISHED-TTL:P3D
REFRESH-INTERVAL:P3D
CALSCALE:GREGORIAN
BEGIN:VEVENT
DTSTART:20131002T130000Z
DTEND:20131002T130000Z
X-MICROSOFT-CDO-ALLDAYEVENT:FALSE
SUMMARY:Ambassador Meeting-October 2013
DESCRIPTION:Ambassador Meeting
X-ALT-DESC;FMTTYPE=text/html:Ambassador Meeting
LOCATION:Center for Visual and Performing Arts
UID:e.1835.273
SEQUENCE:3
DTSTAMP:20260420T170932Z
URL:https://members.munsterchamber.org/events/details/ambassador-meeting-october-2013-10-02-2013-273
END:VEVENT

END:VCALENDAR
