BEGIN:VCALENDAR
VERSION:2.0
PRODID:-//ChamberMaster//Event Calendar 2.0//EN
METHOD:PUBLISH
X-PUBLISHED-TTL:P3D
REFRESH-INTERVAL:P3D
CALSCALE:GREGORIAN
BEGIN:VEVENT
DTSTART:20130724T130000Z
DTEND:20130724T140000Z
X-MICROSOFT-CDO-ALLDAYEVENT:FALSE
SUMMARY:Ambassador Meeting-July 2013
DESCRIPTION:Ambassador Meeting
X-ALT-DESC;FMTTYPE=text/html:Ambassador Meeting&nbsp\;&nbsp\;&nbsp\;&nbsp\;
LOCATION:Center for Visual and Performing Arts 1040 Ridge Road Munster\, IN 46321
UID:e.1835.270
SEQUENCE:3
DTSTAMP:20260420T210232Z
URL:https://members.munsterchamber.org/events/details/ambassador-meeting-july-2013-07-24-2013-270
END:VEVENT

END:VCALENDAR
