BEGIN:VCALENDAR
VERSION:2.0
PRODID:-//ChamberMaster//Event Calendar 2.0//EN
METHOD:PUBLISH
X-PUBLISHED-TTL:P3D
REFRESH-INTERVAL:P3D
CALSCALE:GREGORIAN
BEGIN:VEVENT
DTSTART:20131127T140000Z
DTEND:20131127T150000Z
X-MICROSOFT-CDO-ALLDAYEVENT:FALSE
SUMMARY:Ambassador Meeting
DESCRIPTION:Ambassador Meeting
X-ALT-DESC;FMTTYPE=text/html:Ambassador Meeting&nbsp\;&nbsp\;&nbsp\;&nbsp\;
LOCATION:Center for Visual and Performing Arts 1040 Ridge Road Munster\, IN 46321
UID:e.1835.277
SEQUENCE:3
DTSTAMP:20260420T154753Z
URL:https://members.munsterchamber.org/events/details/ambassador-meeting-11-27-2013-277
END:VEVENT

END:VCALENDAR
