BEGIN:VCALENDAR
VERSION:2.0
PRODID:-//ChamberMaster//Event Calendar 2.0//EN
METHOD:PUBLISH
X-PUBLISHED-TTL:P3D
REFRESH-INTERVAL:P3D
CALSCALE:GREGORIAN
BEGIN:VEVENT
DTSTART:20150722T130000Z
DTEND:20150722T140000Z
X-MICROSOFT-CDO-ALLDAYEVENT:FALSE
SUMMARY:Ambassador Meeting
DESCRIPTION:On Agenda\n\nPotential New members\, New members\, Upcoming Events\n\nOffer Workshop through Yes and Then - September 22\n\nReview the dropped member list - compile standard list of questions to ask dropped members\n\nPlan the October networking meeting - speed date or other...
X-ALT-DESC;FMTTYPE=text/html:On Agenda<br />\nPotential New members\, New members\, Upcoming Events<br />\nOffer Workshop through Yes and Then - September 22<br />\nReview the dropped member list - compile standard list of questions to ask dropped members<br />\nPlan the October networking meeting - speed date or other...
LOCATION:Location: Center for Visual and Performing Arts Room - Upper Level\, Meeting Room - located behind the Box Office
UID:e.1835.2873
SEQUENCE:3
DTSTAMP:20260422T013242Z
URL:https://members.munsterchamber.org/events/details/ambassador-meeting-07-22-2015-2873
END:VEVENT

END:VCALENDAR
