BEGIN:VCALENDAR
VERSION:2.0
PRODID:-//ChamberMaster//Event Calendar 2.0//EN
METHOD:PUBLISH
X-PUBLISHED-TTL:P3D
REFRESH-INTERVAL:P3D
CALSCALE:GREGORIAN
BEGIN:VEVENT
DTSTART:20150128T140000Z
DTEND:20150129T030000Z
X-MICROSOFT-CDO-ALLDAYEVENT:FALSE
SUMMARY:Ambassador Meeting
DESCRIPTION:Ambassador Committee Meeting\n\nItems on agenda:\n\n Role and Responsibilities of Ambassadors\n\n Love Your Business
X-ALT-DESC;FMTTYPE=text/html:Ambassador Committee Meeting<br />\nItems on agenda:<br />\n&nbsp\;Role and Responsibilities of Ambassadors<br />\n&nbsp\;Love Your Business<br />\n&nbsp\;
LOCATION:MEETING ROOM - UPPER LEVEL - BEHIND BOX OFFICE Center for Visual and Performing Arts 1040 Ridge Road Munster\, IN 46321
UID:e.1835.2642
SEQUENCE:3
DTSTAMP:20260419T181515Z
URL:https://members.munsterchamber.org/events/details/ambassador-meeting-01-28-2015-2642
END:VEVENT

END:VCALENDAR
