BEGIN:VCALENDAR
VERSION:2.0
PRODID:-//ChamberMaster//Event Calendar 2.0//EN
METHOD:PUBLISH
X-PUBLISHED-TTL:P3D
REFRESH-INTERVAL:P3D
CALSCALE:GREGORIAN
BEGIN:VEVENT
DTSTART:20140122T140000Z
DTEND:20140122T150000Z
X-MICROSOFT-CDO-ALLDAYEVENT:FALSE
SUMMARY:Ambassador Meeting
DESCRIPTION:Ambassador Meeting
X-ALT-DESC;FMTTYPE=text/html:Ambassador Meeting&nbsp\;&nbsp\;&nbsp\;&nbsp\;
LOCATION:Munster Chamber Office
UID:e.1835.415
SEQUENCE:3
DTSTAMP:20260420T133539Z
URL:https://members.munsterchamber.org/events/details/ambassador-meeting-01-22-2014-415
END:VEVENT

END:VCALENDAR
