BEGIN:VCALENDAR
VERSION:2.0
PRODID:-//ChamberMaster//Event Calendar 2.0//EN
METHOD:PUBLISH
X-PUBLISHED-TTL:P3D
REFRESH-INTERVAL:P3D
CALSCALE:GREGORIAN
BEGIN:VEVENT
DTSTART:20160323T130000Z
DTEND:20160323T140000Z
X-MICROSOFT-CDO-ALLDAYEVENT:FALSE
SUMMARY:Ambassador Committee Meeting
DESCRIPTION:Bi-monthly Ambassador Meeting\n\n\n\nNOTE MEETING LOCATION CHANGE\n\nWe will be meeting at The Commander Restaurant\n\n\n\n\n\n(FYI - Wendy will not be in attendance)
X-ALT-DESC;FMTTYPE=text/html:Bi-monthly Ambassador Meeting<br />\n<br />\nNOTE MEETING LOCATION CHANGE<br />\nWe will be meeting at The Commander Restaurant<br />\n<br />\n<br />\n(FYI - Wendy will not be in attendance)
LOCATION:Commander Restaurant 745 Ridge Road Munster\, IN
UID:e.1835.3244
SEQUENCE:3
DTSTAMP:20260421T154411Z
URL:https://members.munsterchamber.org/events/details/ambassador-committee-meeting-03-23-2016-3244
END:VEVENT

END:VCALENDAR
