BEGIN:VCALENDAR
VERSION:2.0
PRODID:-//ChamberMaster//Event Calendar 2.0//EN
METHOD:PUBLISH
X-PUBLISHED-TTL:P3D
REFRESH-INTERVAL:P3D
CALSCALE:GREGORIAN
BEGIN:VEVENT
DTSTART:20150114T150000Z
DTEND:20150114T160000Z
X-MICROSOFT-CDO-ALLDAYEVENT:FALSE
SUMMARY:Ambassador Committee Informational Meeting
DESCRIPTION:
X-ALT-DESC;FMTTYPE=text/html:
LOCATION:The Commander Restaurant
UID:e.1835.2601
SEQUENCE:3
DTSTAMP:20260419T182026Z
URL:https://members.munsterchamber.org/events/details/ambassador-committee-informational-meeting-01-14-2015-2601
END:VEVENT

END:VCALENDAR
