BEGIN:VCALENDAR
VERSION:2.0
PRODID:-//ChamberMaster//Event Calendar 2.0//EN
METHOD:PUBLISH
X-PUBLISHED-TTL:P3D
REFRESH-INTERVAL:P3D
CALSCALE:GREGORIAN
BEGIN:VEVENT
DTSTART:20151023T170000Z
DTEND:20151023T170000Z
X-MICROSOFT-CDO-ALLDAYEVENT:FALSE
SUMMARY:Amadeus!
DESCRIPTION:This interactive concert will combine works spanning Mozart?s career with still images and clips from the film Amadeus.
X-ALT-DESC;FMTTYPE=text/html:This interactive concert will combine works spanning Mozart?s career with still images and clips from the film Amadeus.
LOCATION:The Auditorium at Bethel Church
UID:e.1835.2881
SEQUENCE:3
DTSTAMP:20260421T214600Z
URL:https://members.munsterchamber.org/events/details/amadeus-10-23-2015-2881
END:VEVENT

END:VCALENDAR
