BEGIN:VCALENDAR
VERSION:2.0
PRODID:-//ChamberMaster//Event Calendar 2.0//EN
METHOD:PUBLISH
X-PUBLISHED-TTL:P3D
REFRESH-INTERVAL:P3D
CALSCALE:GREGORIAN
BEGIN:VEVENT
DTSTART:20150223T190000Z
DTEND:20150223T200000Z
X-MICROSOFT-CDO-ALLDAYEVENT:FALSE
SUMMARY:Administrative Professional Luncheon Committee Meeting
DESCRIPTION:This meeting will be to determine the entertainment (in the past we have Albert's\, It's Just Serendipity\, Towle Theater\, Fitness Pointe\, Priority Fitness\,  The Gourmet Goddess to name a few)\, review pricing and discuss door prizes and gift bags.
X-ALT-DESC;FMTTYPE=text/html:<span style="font-size: medium\;"><span style="font-family: calibri\;">This meeting will be to determine the entertainment (in the past we have Albert&rsquo\;s\, It&rsquo\;s Just Serendipity\, Towle Theater\, Fitness Pointe\, Priority Fitness\,&nbsp\; The Gourmet Goddess to name a few)\, review pricing and discuss door prizes and gift bags.</span></span><br />\n&nbsp\;
LOCATION:Munster Chamber office Center for Visual and Performing Arts 1040 Ridge Road\, Munster\, IN
UID:e.1835.2650
SEQUENCE:3
DTSTAMP:20260419T164844Z
URL:https://members.munsterchamber.org/events/details/administrative-professional-luncheon-committee-meeting-02-23-2015-2650
END:VEVENT

END:VCALENDAR
