BEGIN:VCALENDAR
VERSION:2.0
PRODID:-//ChamberMaster//Event Calendar 2.0//EN
METHOD:PUBLISH
X-PUBLISHED-TTL:P3D
REFRESH-INTERVAL:P3D
CALSCALE:GREGORIAN
BEGIN:VEVENT
DTSTART:20140423T164500Z
DTEND:20140423T180000Z
X-MICROSOFT-CDO-ALLDAYEVENT:FALSE
SUMMARY:Administrative Professional and Support Staff Luncheon
DESCRIPTION:The Gourmet Goddess\, Katie Sannito\, will share tips and advice on how to prepare simple\, yet elegant appetizers for your next get-together.
X-ALT-DESC;FMTTYPE=text/html:The Gourmet Goddess\, Katie Sannito\, will share tips and advice on how to prepare simple\, yet elegant appetizers for your next get-together. &nbsp\;
LOCATION:Center for Visual and Performing Arts 1040 Ridge Road Munster\, IN 46321
UID:e.1835.433
SEQUENCE:3
DTSTAMP:20260420T090959Z
URL:https://members.munsterchamber.org/events/details/administrative-professional-and-support-staff-luncheon-04-23-2014-433
END:VEVENT

END:VCALENDAR
