BEGIN:VCALENDAR
VERSION:2.0
PRODID:-//ChamberMaster//Event Calendar 2.0//EN
METHOD:PUBLISH
X-PUBLISHED-TTL:P3D
REFRESH-INTERVAL:P3D
CALSCALE:GREGORIAN
BEGIN:VEVENT
DTSTART;VALUE=DATE:20141113
DTEND;VALUE=DATE:20141114
TRANSP:TRANSPARENT
X-MICROSOFT-CDO-ALLDAYEVENT:TRUE
SUMMARY:A Christmas Memory: The Musical
DESCRIPTION:Based on Truman Capote's touching memoir of his childhood\, this new musical is set in a small Southern town in the 1930's.  A CHRISTMAS MEMORY chronicles a young boy's friendship with his eccentric relatives\, including his cousin and best friend\, Sook.  The misfits are inseparable as they launch kites\, haunt speakeasies and mail fruitcakes to everyone from Jean Harlow to President Roosevelt.  It's a festive tale whose songs celebrate the simple pleasures of country life\, friendship and the joy of giving during the Christmas season.
X-ALT-DESC;FMTTYPE=text/html:&nbsp\;<br />\n<span><span style="font-family: arial\,sans-serif\;"><span style="font-size: 9pt\;">Based on Truman Capote&#39\;s touching memoir of his childhood\, this new musical is set in a small Southern town in the 1930&#39\;s. &nbsp\;A CHRISTMAS MEMORY chronicles a young boy&#39\;s friendship with his eccentric relatives\, including his cousin and best friend\, Sook. &nbsp\;The misfits are inseparable as they launch kites\, haunt speakeasies and mail fruitcakes to everyone from Jean Harlow to President Roosevelt. &nbsp\;It&#39\;s a festive tale whose songs celebrate the simple pleasures of country life\, friendship and the joy of giving during the Christmas season. &nbsp\;</span></span></span>
LOCATION:1040 Ridge Road
UID:e.1835.1553
SEQUENCE:3
DTSTAMP:20260419T214438Z
URL:https://members.munsterchamber.org/events/details/a-christmas-memory-the-musical-11-13-2014-1553
END:VEVENT

END:VCALENDAR
